BEGIN:VCALENDAR
VERSION:2.0
PRODID:-//ChamberMaster//Event Calendar 2.0//EN
METHOD:PUBLISH
X-PUBLISHED-TTL:P1H
REFRESH-INTERVAL:P1H
CALSCALE:GREGORIAN
BEGIN:VTIMEZONE
TZID:America/New_York
BEGIN:DAYLIGHT
RRULE:FREQ=YEARLY;BYMONTH=3;BYDAY=2SU
DTSTART:20070101T000000
TZOFFSETFROM:-0500
TZOFFSETTO:-0400
TZNAME:Eastern Daylight Time
END:DAYLIGHT
BEGIN:STANDARD
RRULE:FREQ=YEARLY;BYMONTH=11;BYDAY=1SU
DTSTART:20070101T000000
TZOFFSETFROM:-0400
TZOFFSETTO:-0500
TZNAME:Eastern Standard Time
END:STANDARD
END:VTIMEZONE
BEGIN:VEVENT
DTSTART;TZID=America/New_York:20260505T080000
DTEND;TZID=America/New_York:20260505T090000
X-MICROSOFT-CDO-ALLDAYEVENT:FALSE
SUMMARY:Business Before Breakfast with Habitat for Humanity
DESCRIPTION:
X-ALT-DESC;FMTTYPE=text/html:
LOCATION:3620 SE Dixie Hwy. Stuart FL 34997
UID:e.2329.1443548
SEQUENCE:3
DTSTAMP:20260419T131959Z
URL:https://business.palmcitychamber.com/event-calendar/Details/business-before-breakfast-with-habitat-for-humanity-1709781?sourceTypeId=Hub
END:VEVENT
END:VCALENDAR
